BEGIN:VCALENDAR
VERSION:2.0
PRODID:-//AudioTheme 2.0.4
BEGIN:VEVENT
UID:urn:uuid:dc4a28a5-e96d-45e0-8d5e-1aa9cbba8acb
URL:https://www.jovebigbandsedajazz.com/shows/concert-5/
DTSTART;VALUE=DATE:20210826
SUMMARY:Concert
LOCATION:Vallada
END:VEVENT
END:VCALENDAR
